BEGIN:VCALENDAR
VERSION:2.0
PRODID:-//Observatorio de Simbiosis Industrial de la Comunitat Valenciana - ECPv5.13.0//NONSGML v1.0//EN
CALSCALE:GREGORIAN
METHOD:PUBLISH
X-WR-CALNAME:Observatorio de Simbiosis Industrial de la Comunitat Valenciana
X-ORIGINAL-URL:https://cas.osicv.es
X-WR-CALDESC:Eventos para Observatorio de Simbiosis Industrial de la Comunitat Valenciana
REFRESH-INTERVAL;VALUE=DURATION:PT1H
X-Robots-Tag:noindex
X-PUBLISHED-TTL:PT1H
BEGIN:VTIMEZONE
TZID:UTC
BEGIN:STANDARD
TZOFFSETFROM:+0000
TZOFFSETTO:+0000
TZNAME:UTC
DTSTART:20240101T000000
END:STANDARD
END:VTIMEZONE
BEGIN:VEVENT
DTSTART;TZID=UTC:20240610T080000
DTEND;TZID=UTC:20240610T170000
DTSTAMP:20260420T152817
CREATED:20240503T074107Z
LAST-MODIFIED:20240503T074107Z
UID:2258-1718006400-1718038800@cas.osicv.es
SUMMARY:Misión-estudio OCDE sobre economía circular en la Comunidad Valenciana
DESCRIPTION:recepción institucional
URL:https://cas.osicv.es/event/mision-estudio-ocde-sobre-economia-circular-en-la-comunidad-valenciana/
ATTACH;FMTTYPE=image/png:https://cas.osicv.es/wp-content/uploads/sites/3/2021/11/osicv-transparente-color2.png
END:VEVENT
BEGIN:VEVENT
DTSTART;TZID=UTC:20240610T080000
DTEND;TZID=UTC:20240613T170000
DTSTAMP:20260420T152817
CREATED:20240313T194549Z
LAST-MODIFIED:20240503T074004Z
UID:2198-1718006400-1718298000@cas.osicv.es
SUMMARY:Misión estudio OCDE en la Comunitat Valenciana
DESCRIPTION:SESIONES DE TRABAJO
URL:https://cas.osicv.es/event/mision-estudio-ocde-en-la-comunitat-valenciana/
ATTACH;FMTTYPE=image/jpeg:https://cas.osicv.es/wp-content/uploads/sites/3/2022/04/LOGO-ObservatorioSimbiosisIndustrial-CS-scaled.jpg
END:VEVENT
END:VCALENDAR