BEGIN:VCALENDAR
VERSION:2.0
PRODID:-//Observatorio de Simbiosis Industrial de la Comunitat Valenciana - ECPv5.13.0//NONSGML v1.0//EN
CALSCALE:GREGORIAN
METHOD:PUBLISH
X-WR-CALNAME:Observatorio de Simbiosis Industrial de la Comunitat Valenciana
X-ORIGINAL-URL:https://cas.osicv.es
X-WR-CALDESC:Eventos para Observatorio de Simbiosis Industrial de la Comunitat Valenciana
REFRESH-INTERVAL;VALUE=DURATION:PT1H
X-Robots-Tag:noindex
X-PUBLISHED-TTL:PT1H
BEGIN:VTIMEZONE
TZID:UTC
BEGIN:STANDARD
TZOFFSETFROM:+0000
TZOFFSETTO:+0000
TZNAME:UTC
DTSTART:20240101T000000
END:STANDARD
END:VTIMEZONE
BEGIN:VEVENT
DTSTART;TZID=UTC:20240515T080000
DTEND;TZID=UTC:20240515T170000
DTSTAMP:20260422T014229
CREATED:20240503T073218Z
LAST-MODIFIED:20240503T073218Z
UID:2248-1715760000-1715792400@cas.osicv.es
SUMMARY:Misión-estudio OCDE sobre economía circular en la Comunidad Valenciana
DESCRIPTION:Envío de cuestionario
URL:https://cas.osicv.es/event/mision-estudio-ocde-sobre-economia-circular-en-c-valenciana-envio-de-cuestionario/
ATTACH;FMTTYPE=image/png:https://cas.osicv.es/wp-content/uploads/sites/3/2021/11/osicv-transparente-color2.png
END:VEVENT
END:VCALENDAR